Package: BASiCStan Version: 1.10.0 Command: /Library/Frameworks/R.framework/Resources/bin/R CMD build --keep-empty-dirs --no-resave-data BASiCStan StartedAt: 2025-10-13 19:35:28 -0400 (Mon, 13 Oct 2025) EndedAt: 2025-10-13 19:39:18 -0400 (Mon, 13 Oct 2025) EllapsedTime: 229.3 seconds RetCode: 0 Status: OK PackageFile: BASiCStan_1.10.0.tar.gz PackageFileSize: 77.04 KiB