Package: BASiCS Version: 2.22.0 Command: /home/biocbuild/R/R/bin/R CMD INSTALL BASiCS StartedAt: 2025-11-10 22:07:41 -0000 (Mon, 10 Nov 2025) EndedAt: 2025-11-10 22:09:31 -0000 (Mon, 10 Nov 2025) EllapsedTime: 110.5 seconds RetCode: 0 Status: OK