Package: BASiCS Version: 2.22.0 Command: /home/biocbuild/R/R/bin/R CMD build --keep-empty-dirs --no-resave-data BASiCS StartedAt: 2025-11-13 23:38:15 -0000 (Thu, 13 Nov 2025) EndedAt: 2025-11-13 23:40:53 -0000 (Thu, 13 Nov 2025) EllapsedTime: 158.0 seconds RetCode: 0 Status: OK PackageFile: BASiCS_2.22.0.tar.gz PackageFileSize: 3.032 MiB