Package: BASiCS Version: 2.22.0 Command: /home/biocbuild/bbs-3.22-bioc/R/bin/R CMD INSTALL BASiCS StartedAt: 2025-11-13 15:57:46 -0500 (Thu, 13 Nov 2025) EndedAt: 2025-11-13 15:59:00 -0500 (Thu, 13 Nov 2025) EllapsedTime: 73.7 seconds RetCode: 0 Status: OK