Package: BASiCS Version: 2.22.0 Command: /home/biocbuild/bbs-3.22-bioc/R/bin/R CMD check --install=check:BASiCS.install-out.txt --library=/home/biocbuild/bbs-3.22-bioc/R/site-library --timings BASiCS_2.22.0.tar.gz StartedAt: 2025-11-13 21:22:29 -0500 (Thu, 13 Nov 2025) EndedAt: 2025-11-13 21:32:29 -0500 (Thu, 13 Nov 2025) EllapsedTime: 599.1 seconds RetCode: 0 Status: WARNINGS CheckDir: BASiCS.Rcheck Warnings: 1