Package: BASiCS Version: 2.22.0 Command: /home/biocbuild/bbs-3.22-bioc/R/bin/R CMD build --keep-empty-dirs --no-resave-data --md5 BASiCS StartedAt: 2025-11-13 16:21:59 -0500 (Thu, 13 Nov 2025) EndedAt: 2025-11-13 16:23:52 -0500 (Thu, 13 Nov 2025) EllapsedTime: 113.1 seconds RetCode: 0 Status: OK PackageFile: BASiCS_2.22.0.tar.gz PackageFileSize: 3.204 MiB