Package: BASiCS Version: 2.20.0 Command: /Library/Frameworks/R.framework/Resources/bin/R CMD INSTALL BASiCS StartedAt: 2025-10-09 16:33:22 -0400 (Thu, 09 Oct 2025) EndedAt: 2025-10-09 16:35:52 -0400 (Thu, 09 Oct 2025) EllapsedTime: 149.9 seconds RetCode: 0 Status: OK