Package: BASiCS Version: 2.20.0 Command: /Library/Frameworks/R.framework/Resources/bin/R CMD build --keep-empty-dirs --no-resave-data BASiCS StartedAt: 2025-10-09 17:10:10 -0400 (Thu, 09 Oct 2025) EndedAt: 2025-10-09 17:14:31 -0400 (Thu, 09 Oct 2025) EllapsedTime: 261.4 seconds RetCode: 0 Status: OK PackageFile: BASiCS_2.20.0.tar.gz PackageFileSize: 3.302 MiB