Package: BANDITS Version: 1.26.0 Command: /home/biocbuild/bbs-3.22-bioc/R/bin/R CMD INSTALL BANDITS StartedAt: 2025-11-14 15:35:59 -0500 (Fri, 14 Nov 2025) EndedAt: 2025-11-14 15:36:59 -0500 (Fri, 14 Nov 2025) EllapsedTime: 60.1 seconds RetCode: 0 Status: OK