Package: BANDITS Version: 1.26.0 Command: /home/biocbuild/bbs-3.22-bioc/R/bin/R CMD build --keep-empty-dirs --no-resave-data --md5 BANDITS StartedAt: 2025-11-14 16:20:47 -0500 (Fri, 14 Nov 2025) EndedAt: 2025-11-14 16:23:18 -0500 (Fri, 14 Nov 2025) EllapsedTime: 151.1 seconds RetCode: 0 Status: OK PackageFile: BANDITS_1.26.0.tar.gz PackageFileSize: 1.289 MiB