Package: BANDITS Version: 1.26.0 Command: /Library/Frameworks/R.framework/Resources/bin/R CMD build --keep-empty-dirs --no-resave-data BANDITS StartedAt: 2025-11-10 15:40:46 -0500 (Mon, 10 Nov 2025) EndedAt: 2025-11-10 15:41:43 -0500 (Mon, 10 Nov 2025) EllapsedTime: 56.6 seconds RetCode: 0 Status: OK PackageFile: BANDITS_1.26.0.tar.gz PackageFileSize: 1.221 MiB