Package: BANDITS Version: 1.26.0 Command: rm -rf BANDITS.buildbin-libdir && mkdir BANDITS.buildbin-libdir && /Users/biocbuild/BBS/utils/build-universal.sh BANDITS_1.26.0.tar.gz /Library/Frameworks/R.framework/Resources/bin/R BANDITS.buildbin-libdir StartedAt: 2025-11-10 23:11:46 -0500 (Mon, 10 Nov 2025) EndedAt: 2025-11-10 23:12:05 -0500 (Mon, 10 Nov 2025) EllapsedTime: 19.3 seconds RetCode: 0 Status: OK PackageFile: BANDITS_1.26.0.tgz PackageFileSize: 1.602 MiB