Package: BAGS Version: 2.50.0 Command: /home/biocbuild/bbs-3.22-bioc/R/bin/R CMD INSTALL BAGS StartedAt: 2025-11-11 15:16:11 -0500 (Tue, 11 Nov 2025) EndedAt: 2025-11-11 15:16:14 -0500 (Tue, 11 Nov 2025) EllapsedTime: 3.1 seconds RetCode: 0 Status: OK