Package: BAGS Version: 2.50.0 Command: /home/biocbuild/bbs-3.22-bioc/R/bin/R CMD build --keep-empty-dirs --no-resave-data --md5 BAGS StartedAt: 2025-11-11 16:22:14 -0500 (Tue, 11 Nov 2025) EndedAt: 2025-11-11 16:22:36 -0500 (Tue, 11 Nov 2025) EllapsedTime: 22.0 seconds RetCode: 0 Status: OK PackageFile: BAGS_2.50.0.tar.gz PackageFileSize: 276 KiB