Package: BAGS Version: 2.50.0 Command: /Library/Frameworks/R.framework/Resources/bin/R CMD INSTALL BAGS StartedAt: 2025-10-31 15:10:23 -0400 (Fri, 31 Oct 2025) EndedAt: 2025-10-31 15:10:25 -0400 (Fri, 31 Oct 2025) EllapsedTime: 2.1 seconds RetCode: 0 Status: OK