Package: BAGS Version: 2.50.0 Command: /Library/Frameworks/R.framework/Resources/bin/R CMD build --keep-empty-dirs --no-resave-data BAGS StartedAt: 2025-10-31 15:44:23 -0400 (Fri, 31 Oct 2025) EndedAt: 2025-10-31 15:44:34 -0400 (Fri, 31 Oct 2025) EllapsedTime: 11.1 seconds RetCode: 0 Status: OK PackageFile: BAGS_2.50.0.tar.gz PackageFileSize: 273.9 KiB