Package: BAGS Version: 2.50.0 Command: rm -rf BAGS.buildbin-libdir && mkdir BAGS.buildbin-libdir && /Users/biocbuild/BBS/utils/build-universal.sh BAGS_2.50.0.tar.gz /Library/Frameworks/R.framework/Resources/bin/R BAGS.buildbin-libdir StartedAt: 2025-10-31 22:58:29 -0400 (Fri, 31 Oct 2025) EndedAt: 2025-10-31 22:58:32 -0400 (Fri, 31 Oct 2025) EllapsedTime: 3.1 seconds RetCode: 0 Status: OK PackageFile: BAGS_2.50.0.tgz PackageFileSize: 316.7 KiB