Package: BADER Version: 1.48.0 Command: /home/biocbuild/bbs-3.22-bioc/R/bin/R CMD INSTALL BADER StartedAt: 2025-11-11 15:09:51 -0500 (Tue, 11 Nov 2025) EndedAt: 2025-11-11 15:10:02 -0500 (Tue, 11 Nov 2025) EllapsedTime: 10.5 seconds RetCode: 0 Status: OK