Package: BADER Version: 1.48.0 Command: /Library/Frameworks/R.framework/Resources/bin/R CMD build --keep-empty-dirs --no-resave-data BADER StartedAt: 2025-11-10 15:40:33 -0500 (Mon, 10 Nov 2025) EndedAt: 2025-11-10 15:40:42 -0500 (Mon, 10 Nov 2025) EllapsedTime: 9.1 seconds RetCode: 0 Status: OK PackageFile: BADER_1.48.0.tar.gz PackageFileSize: 238.2 KiB