Package: BADER Version: 1.48.0 Command: rm -rf BADER.buildbin-libdir && mkdir BADER.buildbin-libdir && /Users/biocbuild/BBS/utils/build-universal.sh BADER_1.48.0.tar.gz /Library/Frameworks/R.framework/Resources/bin/R BADER.buildbin-libdir StartedAt: 2025-11-10 23:11:42 -0500 (Mon, 10 Nov 2025) EndedAt: 2025-11-10 23:11:44 -0500 (Mon, 10 Nov 2025) EllapsedTime: 2.0 seconds RetCode: 0 Status: OK PackageFile: BADER_1.48.0.tgz PackageFileSize: 258.5 KiB