Package: AssessORF Version: 1.28.0 Command: /home/biocbuild/bbs-3.22-bioc/R/bin/R CMD INSTALL AssessORF StartedAt: 2025-11-11 15:40:39 -0500 (Tue, 11 Nov 2025) EndedAt: 2025-11-11 15:40:51 -0500 (Tue, 11 Nov 2025) EllapsedTime: 11.6 seconds RetCode: 0 Status: OK