Package: ArrayExpress Version: 1.70.0 Command: /home/biocbuild/R/R/bin/R CMD INSTALL ArrayExpress StartedAt: 2025-11-10 21:27:20 -0000 (Mon, 10 Nov 2025) EndedAt: 2025-11-10 21:27:56 -0000 (Mon, 10 Nov 2025) EllapsedTime: 35.9 seconds RetCode: 0 Status: OK