Package: ArrayExpress Version: 1.70.0 Command: /home/biocbuild/R/R/bin/R CMD build --keep-empty-dirs --no-resave-data ArrayExpress StartedAt: 2025-11-10 23:28:46 -0000 (Mon, 10 Nov 2025) EndedAt: 2025-11-10 23:35:36 -0000 (Mon, 10 Nov 2025) EllapsedTime: 410.1 seconds RetCode: 0 Status: OK PackageFile: ArrayExpress_1.70.0.tar.gz PackageFileSize: 133.2 KiB