Package: ArrayExpress Version: 1.70.0 Command: /home/biocbuild/bbs-3.22-bioc/R/bin/R CMD check --install=check:ArrayExpress.install-out.txt --library=/home/biocbuild/bbs-3.22-bioc/R/site-library --timings ArrayExpress_1.70.0.tar.gz StartedAt: 2025-11-11 21:13:49 -0500 (Tue, 11 Nov 2025) EndedAt: 2025-11-11 21:20:35 -0500 (Tue, 11 Nov 2025) EllapsedTime: 405.4 seconds RetCode: 1 Status: ERROR CheckDir: ArrayExpress.Rcheck Warnings: NA