Package: ArrayExpress Version: 1.70.0 Command: /home/biocbuild/bbs-3.22-bioc/R/bin/R CMD build --keep-empty-dirs --no-resave-data --md5 ArrayExpress StartedAt: 2025-11-11 16:17:51 -0500 (Tue, 11 Nov 2025) EndedAt: 2025-11-11 16:20:23 -0500 (Tue, 11 Nov 2025) EllapsedTime: 152.1 seconds RetCode: 0 Status: OK PackageFile: ArrayExpress_1.70.0.tar.gz PackageFileSize: 138.3 KiB