Package: ArrayExpress Version: 1.68.0 Command: /home/biocbuild/bbs-3.21-bioc/R/bin/R CMD build --keep-empty-dirs --no-resave-data ArrayExpress StartedAt: 2025-09-28 16:26:44 -0400 (Sun, 28 Sep 2025) EndedAt: 2025-09-28 16:28:59 -0400 (Sun, 28 Sep 2025) EllapsedTime: 135.1 seconds RetCode: 0 Status: OK PackageFile: ArrayExpress_1.68.0.tar.gz PackageFileSize: 137.3 KiB