Package: ArrayExpress Version: 1.68.0 Command: /Library/Frameworks/R.framework/Resources/bin/R CMD build --keep-empty-dirs --no-resave-data ArrayExpress StartedAt: 2025-04-21 15:57:15 -0400 (Mon, 21 Apr 2025) EndedAt: 2025-04-21 15:58:06 -0400 (Mon, 21 Apr 2025) EllapsedTime: 51.4 seconds RetCode: 1 Status: ERROR PackageFile: None PackageFileSize: NA