Package: ArrayExpress Version: 1.68.0 Command: /home/biocbuild/R/R/bin/R CMD check --install=check:ArrayExpress.install-out.txt --library=/home/biocbuild/R/R/site-library --no-vignettes --timings ArrayExpress_1.68.0.tar.gz StartedAt: 2025-10-14 06:15:12 -0000 (Tue, 14 Oct 2025) EndedAt: 2025-10-14 06:35:56 -0000 (Tue, 14 Oct 2025) EllapsedTime: 1244.7 seconds RetCode: 0 Status: OK CheckDir: ArrayExpress.Rcheck Warnings: 0