Package: AnnotationHubData Version: 1.40.0 Command: /home/biocbuild/R/R/bin/R CMD INSTALL AnnotationHubData StartedAt: 2025-11-10 21:48:47 -0000 (Mon, 10 Nov 2025) EndedAt: 2025-11-10 21:49:44 -0000 (Mon, 10 Nov 2025) EllapsedTime: 57.6 seconds RetCode: 0 Status: OK