Package: AnnotationHubData Version: 1.40.0 Command: /home/biocbuild/R/R/bin/R CMD build --keep-empty-dirs --no-resave-data AnnotationHubData StartedAt: 2025-11-10 23:26:16 -0000 (Mon, 10 Nov 2025) EndedAt: 2025-11-10 23:27:12 -0000 (Mon, 10 Nov 2025) EllapsedTime: 56.0 seconds RetCode: 0 Status: OK PackageFile: AnnotationHubData_1.40.0.tar.gz PackageFileSize: 425.2 KiB