Package: AnnotationHubData Version: 1.38.0 Command: chmod a+r AnnotationHubData -R && E:\biocbuild\bbs-3.21-bioc\R\bin\R.exe CMD build --keep-empty-dirs --no-resave-data AnnotationHubData StartedAt: 2025-08-14 17:20:27 -0400 (Thu, 14 Aug 2025) EndedAt: 2025-08-14 17:23:00 -0400 (Thu, 14 Aug 2025) EllapsedTime: 153.9 seconds RetCode: 0 Status: OK PackageFile: AnnotationHubData_1.38.0.tar.gz PackageFileSize: 400.4 KiB