Package: AnnotationHubData Version: 1.40.0 Command: /home/biocbuild/bbs-3.22-bioc/R/bin/R CMD check --install=check:AnnotationHubData.install-out.txt --library=/home/biocbuild/bbs-3.22-bioc/R/site-library --timings AnnotationHubData_1.40.0.tar.gz StartedAt: 2025-11-11 21:11:41 -0500 (Tue, 11 Nov 2025) EndedAt: 2025-11-11 21:20:21 -0500 (Tue, 11 Nov 2025) EllapsedTime: 519.6 seconds RetCode: 0 Status: WARNINGS CheckDir: AnnotationHubData.Rcheck Warnings: 1