Package: AnnotationHubData Version: 1.40.0 Command: /home/biocbuild/bbs-3.22-bioc/R/bin/R CMD build --keep-empty-dirs --no-resave-data --md5 AnnotationHubData StartedAt: 2025-11-11 16:17:05 -0500 (Tue, 11 Nov 2025) EndedAt: 2025-11-11 16:17:49 -0500 (Tue, 11 Nov 2025) EllapsedTime: 44.1 seconds RetCode: 0 Status: OK PackageFile: AnnotationHubData_1.40.0.tar.gz PackageFileSize: 402.6 KiB