Package: AnnotationHubData Version: 1.38.0 Command: /Library/Frameworks/R.framework/Resources/bin/R CMD INSTALL AnnotationHubData StartedAt: 2025-09-25 17:18:57 -0400 (Thu, 25 Sep 2025) EndedAt: 2025-09-25 17:19:47 -0400 (Thu, 25 Sep 2025) EllapsedTime: 49.2 seconds RetCode: 0 Status: OK