Package: AnnotationHub Version: 4.0.0 Command: /home/biocbuild/bbs-3.22-bioc/R/bin/R CMD INSTALL AnnotationHub StartedAt: 2025-11-11 15:29:46 -0500 (Tue, 11 Nov 2025) EndedAt: 2025-11-11 15:30:03 -0500 (Tue, 11 Nov 2025) EllapsedTime: 16.4 seconds RetCode: 0 Status: OK