Package: AnnotationHub Version: 4.0.0 Command: /home/biocbuild/bbs-3.22-bioc/R/bin/R CMD build --keep-empty-dirs --no-resave-data --md5 AnnotationHub StartedAt: 2025-11-11 16:16:54 -0500 (Tue, 11 Nov 2025) EndedAt: 2025-11-11 16:18:56 -0500 (Tue, 11 Nov 2025) EllapsedTime: 122.1 seconds RetCode: 0 Status: OK PackageFile: AnnotationHub_4.0.0.tar.gz PackageFileSize: 979.5 KiB