Package: AnnotationHub Version: 4.0.0 Command: /Library/Frameworks/R.framework/Resources/bin/R CMD INSTALL AnnotationHub StartedAt: 2025-11-03 15:24:47 -0500 (Mon, 03 Nov 2025) EndedAt: 2025-11-03 15:25:12 -0500 (Mon, 03 Nov 2025) EllapsedTime: 24.5 seconds RetCode: 0 Status: OK