Package: AnnotationHub Version: 3.16.1 Command: /home/biocbuild/R/R/bin/R CMD INSTALL AnnotationHub StartedAt: 2025-10-13 20:39:28 -0000 (Mon, 13 Oct 2025) EndedAt: 2025-10-13 20:39:53 -0000 (Mon, 13 Oct 2025) EllapsedTime: 24.6 seconds RetCode: 0 Status: OK