Package: AnnotationHub Version: 3.16.1 Command: /home/biocbuild/R/R/bin/R CMD build --keep-empty-dirs --no-resave-data AnnotationHub StartedAt: 2025-10-13 22:34:06 -0000 (Mon, 13 Oct 2025) EndedAt: 2025-10-13 22:37:33 -0000 (Mon, 13 Oct 2025) EllapsedTime: 207.1 seconds RetCode: 0 Status: OK PackageFile: AnnotationHub_3.16.1.tar.gz PackageFileSize: 1.023 MiB