Package: AnnotationForge Version: 1.52.0 Command: /home/biocbuild/R/R/bin/R CMD INSTALL AnnotationForge StartedAt: 2025-11-13 21:33:43 -0000 (Thu, 13 Nov 2025) EndedAt: 2025-11-13 21:34:06 -0000 (Thu, 13 Nov 2025) EllapsedTime: 23.4 seconds RetCode: 0 Status: OK