Package: AnnotationForge Version: 1.52.0 Command: /home/biocbuild/R/R/bin/R CMD build --keep-empty-dirs --no-resave-data AnnotationForge StartedAt: 2025-11-13 23:24:32 -0000 (Thu, 13 Nov 2025) EndedAt: 2025-11-13 23:27:57 -0000 (Thu, 13 Nov 2025) EllapsedTime: 205.1 seconds RetCode: 0 Status: OK PackageFile: AnnotationForge_1.52.0.tar.gz PackageFileSize: 3.85 MiB