Package: AnnotationForge Version: 1.52.0 Command: /home/biocbuild/bbs-3.22-bioc/R/bin/R CMD check --install=check:AnnotationForge.install-out.txt --library=/home/biocbuild/bbs-3.22-bioc/R/site-library --timings AnnotationForge_1.52.0.tar.gz StartedAt: 2025-11-11 21:10:46 -0500 (Tue, 11 Nov 2025) EndedAt: 2025-11-11 21:15:12 -0500 (Tue, 11 Nov 2025) EllapsedTime: 266.4 seconds RetCode: 0 Status: OK CheckDir: AnnotationForge.Rcheck Warnings: 0