Package: AnnotationForge Version: 1.50.0 Command: /Library/Frameworks/R.framework/Resources/bin/R CMD INSTALL AnnotationForge StartedAt: 2025-09-25 15:45:25 -0400 (Thu, 25 Sep 2025) EndedAt: 2025-09-25 15:45:45 -0400 (Thu, 25 Sep 2025) EllapsedTime: 20.0 seconds RetCode: 0 Status: OK