Package: AnnotationDbi Version: 1.72.0 Command: /home/biocbuild/R/R/bin/R CMD build --keep-empty-dirs --no-resave-data AnnotationDbi StartedAt: 2025-11-10 23:25:46 -0000 (Mon, 10 Nov 2025) EndedAt: 2025-11-10 23:26:56 -0000 (Mon, 10 Nov 2025) EllapsedTime: 70.0 seconds RetCode: 0 Status: OK PackageFile: AnnotationDbi_1.72.0.tar.gz PackageFileSize: 4.159 MiB