Package: AnnotationDbi Version: 1.70.0 Command: chmod a+r AnnotationDbi -R && E:\biocbuild\bbs-3.21-bioc\R\bin\R.exe CMD build --keep-empty-dirs --no-resave-data AnnotationDbi StartedAt: 2025-08-14 17:20:04 -0400 (Thu, 14 Aug 2025) EndedAt: 2025-08-14 17:23:49 -0400 (Thu, 14 Aug 2025) EllapsedTime: 224.8 seconds RetCode: 0 Status: OK PackageFile: AnnotationDbi_1.70.0.tar.gz PackageFileSize: 4.162 MiB