Package: AnnotationDbi Version: 1.70.0 Command: rm -rf AnnotationDbi.buildbin-libdir && mkdir AnnotationDbi.buildbin-libdir && E:\biocbuild\bbs-3.21-bioc\R\bin\R.exe CMD INSTALL --build --library=AnnotationDbi.buildbin-libdir AnnotationDbi_1.70.0.tar.gz StartedAt: 2025-08-15 08:45:26 -0400 (Fri, 15 Aug 2025) EndedAt: 2025-08-15 08:48:42 -0400 (Fri, 15 Aug 2025) EllapsedTime: 196.1 seconds RetCode: 0 Status: OK PackageFile: AnnotationDbi_1.70.0.zip PackageFileSize: 5.038 MiB