Package: AnnotationDbi Version: 1.72.0 Command: /home/biocbuild/bbs-3.22-bioc/R/bin/R CMD build --keep-empty-dirs --no-resave-data --md5 AnnotationDbi StartedAt: 2025-11-13 16:14:03 -0500 (Thu, 13 Nov 2025) EndedAt: 2025-11-13 16:14:57 -0500 (Thu, 13 Nov 2025) EllapsedTime: 54.1 seconds RetCode: 0 Status: OK PackageFile: AnnotationDbi_1.72.0.tar.gz PackageFileSize: 4.178 MiB