Package: AnnotationDbi Version: 1.70.0 Command: /home/biocbuild/bbs-3.21-bioc/R/bin/R CMD INSTALL AnnotationDbi StartedAt: 2025-09-28 15:39:31 -0400 (Sun, 28 Sep 2025) EndedAt: 2025-09-28 15:39:50 -0400 (Sun, 28 Sep 2025) EllapsedTime: 19.3 seconds RetCode: 0 Status: OK