Package: AnnotationDbi Version: 1.70.0 Command: /Library/Frameworks/R.framework/Resources/bin/R CMD INSTALL AnnotationDbi StartedAt: 2025-09-29 15:43:47 -0400 (Mon, 29 Sep 2025) EndedAt: 2025-09-29 15:44:33 -0400 (Mon, 29 Sep 2025) EllapsedTime: 45.7 seconds RetCode: 0 Status: OK