Package: AneuFinder Version: 1.36.0 Command: /home/biocbuild/R/R/bin/R CMD INSTALL AneuFinder StartedAt: 2025-10-13 20:39:45 -0000 (Mon, 13 Oct 2025) EndedAt: 2025-10-13 20:39:49 -0000 (Mon, 13 Oct 2025) EllapsedTime: 3.2 seconds RetCode: 1 Status: ERROR